BEGIN:VCALENDAR
VERSION:2.0
PRODID:-//Drupal iCal API//EN
X-WR-TIMEZONE:America/Chicago
BEGIN:VTIMEZONE
TZID:America/Chicago
X-LIC-LOCATION:America/Chicago
BEGIN:DAYLIGHT
TZNAME:CDT
TZOFFSETFROM:-0600
TZOFFSETTO:-0500
DTSTART:20260308T080000
END:DAYLIGHT
BEGIN:STANDARD
TZNAME:CST
TZOFFSETFROM:-0500
TZOFFSETTO:-0600
DTSTART:20251102T070000
END:STANDARD
END:VTIMEZONE
BEGIN:VEVENT
UID:a842c55e-7fe7-4609-a382-e37706fcdabe
DTSTART;TZID=America/Chicago:20260711T120000
SEQUENCE:0
TRANSP:TRANSPARENT
DTEND;TZID=America/Chicago:20260711T200000
SUMMARY:Taste of Ashland City &amp; Outdoor Concert
CLASS:PUBLIC
DESCRIPTION:Body \n\nDate: July 11th\n\nTime: 12pm to 8pm\n\nConcert to sta
 rt at 6pm\n\nFood Registration Link:\nhttps://www.ashlandcitytn.gov/parksr
 ec/page/2026-taste-ashland-city\n 
DTSTAMP:20260417T131618Z
END:VEVENT
END:VCALENDAR